BEGIN:VCALENDAR
VERSION:2.0
PRODID:-//wp-events-plugin.com//7.2.3.1//EN
TZID:Europe/Berlin
X-WR-TIMEZONE:Europe/Berlin
BEGIN:VEVENT
UID:1547@evangelisch-ehrenfeld.de
DTSTART;TZID=Europe/Berlin:20260427T153000
DTEND;TZID=Europe/Berlin:20260427T170000
DTSTAMP:20251105T133958Z
URL:https://www.evangelisch-ehrenfeld.de/termine/cafe-zeitenwende-2026-01-
 26-2026-02-23-2026-03-30-2026-04-27/
SUMMARY:Café Zeitenwende
DESCRIPTION:Jeden LETZTEN MONTAG im MONAT von 15:30 – 17:00 Uhr bieten wi
 r unser Café Zeitenwende an:\n\nHier können Sie weinen und lachen\, schw
 eigen und reden\, neue Kontakte schließen - bei Kaffee und Kuchen und o
 hne Anmeldung.
ATTACH;FMTTYPE=image/jpeg:https://www.evangelisch-ehrenfeld.de/wp-content/
 uploads/2025/03/Kaffee-und-Kuchen.jpg8_.jpg
CATEGORIES:Café,Erwachsene
LOCATION:Auferstehungskirche\, Görlinger Zentrum 39\, Köln - Bocklemünd\
 , 50829\, Deutschland
X-APPLE-STRUCTURED-LOCATION;VALUE=URI;X-ADDRESS=Görlinger Zentrum 39\, Kö
 ln - Bocklemünd\, 50829\, Deutschland;X-APPLE-RADIUS=100;X-TITLE=Auferste
 hungskirche:geo:0,0
END:VEVENT
BEGIN:VTIMEZONE
TZID:Europe/Berlin
X-LIC-LOCATION:Europe/Berlin
BEGIN:DAYLIGHT
DTSTART:20260329T030000
TZOFFSETFROM:+0100
TZOFFSETTO:+0200
TZNAME:CEST
END:DAYLIGHT
END:VTIMEZONE
END:VCALENDAR