BEGIN:VCALENDAR
VERSION:2.0
PRODID:-//wp-events-plugin.com//7.2.3.1//EN
TZID:Europe/Berlin
X-WR-TIMEZONE:Europe/Berlin
BEGIN:VEVENT
UID:1131@evangelisch-ehrenfeld.de
DTSTART;TZID=Europe/Berlin:20250413T104500
DTEND;TZID=Europe/Berlin:20250413T104500
DTSTAMP:20250411T074203Z
URL:https://www.evangelisch-ehrenfeld.de/termine/jubilaeumsgottesdienst/
SUMMARY:Jubiläumsgottesdienst
DESCRIPTION:Im April 2015 wurde die umgebaute und renovierte Epiphaniaskirc
 he feierlich eröffnet. Seitdem ist in der Kirche und um sie herum Neues g
 ewachsen.\nAuch der Kirchraum hat sich verändert: die Gebetswand ergänzt
  das Ensemble der Prinzipalstücke.\nDie Vision für das Gemeindezentrum E
 piphanias\, die Inspiration für den Umbau war\, wird weiter mit Leben gef
 üllt. Das möchten wir mit einem Jubiläumsgottesdienst feiern!\nEs begr
 üßen Sie Pfarrerin Kristina Tsoleridis und Pfarrer Nico Buschmann\, die 
 den Gottesdienst gemeinsam leiten.\n\nIm Anschluss sind alle herzlich zum 
 Empfang eingeladen.
ATTACH;FMTTYPE=image/jpeg:https://www.evangelisch-ehrenfeld.de/wp-content/
 uploads/2025/02/Kopie-von-10-Jahre-Umbau-Epiphaniaskirche-2.png
CATEGORIES:besondere Gottesdienste,Gottesdienste
LOCATION:Epiphaniaskirche\, Erlenweg 39\, Köln - Bickendorf\, 50827\, Deut
 schland
X-APPLE-STRUCTURED-LOCATION;VALUE=URI;X-ADDRESS=Erlenweg 39\, Köln - Bicke
 ndorf\, 50827\, Deutschland;X-APPLE-RADIUS=100;X-TITLE=Epiphaniaskirche:ge
 o:0,0
END:VEVENT
BEGIN:VTIMEZONE
TZID:Europe/Berlin
X-LIC-LOCATION:Europe/Berlin
BEGIN:DAYLIGHT
DTSTART:20250330T030000
TZOFFSETFROM:+0100
TZOFFSETTO:+0200
TZNAME:CEST
END:DAYLIGHT
END:VTIMEZONE
END:VCALENDAR