BEGIN:VCALENDAR
VERSION:2.0
PRODID:-//wp-events-plugin.com//7.2.3.1//EN
TZID:Europe/Berlin
X-WR-TIMEZONE:Europe/Berlin
BEGIN:VEVENT
UID:1974@evangelisch-ehrenfeld.de
DTSTART;TZID=Europe/Berlin:20260315T170000
DTEND;TZID=Europe/Berlin:20260315T170000
DTSTAMP:20260219T132916Z
URL:https://www.evangelisch-ehrenfeld.de/termine/klangzauber-einer-winterr
 eise/
SUMMARY:KLANGZAUBER EINER WINTERREISE
DESCRIPTION:Weitere Informationen zu der ausgeschriebenen Veranstaltung wer
 den in Kürze ergänzt.Aufgrund eines technischen Serverfehlers ist es uns
  derzeit leider nicht möglich\, alle Inhalte vollständig zu aktualisiere
 n. Wir arbeiten bereits an einer schnellen Lösung und reichen die fehlend
 en Informationen so bald wie möglich nach.\nKommen Sie dennoch sehr gerne
  vorbei und lassen Sie sich vom Programm überraschen.\nVielen Dank für I
 hr Verständnis und Ihre Geduld.
CATEGORIES:Kulturveranstaltungen
LOCATION:Emmauskirche\, Birkhuhnweg 2b\, Köln - Vogelsang\, 50829\, Deutsc
 hland
X-APPLE-STRUCTURED-LOCATION;VALUE=URI;X-ADDRESS=Birkhuhnweg 2b\, Köln - Vo
 gelsang\, 50829\, Deutschland;X-APPLE-RADIUS=100;X-TITLE=Emmauskirche:geo:
 0,0
END:VEVENT
BEGIN:VTIMEZONE
TZID:Europe/Berlin
X-LIC-LOCATION:Europe/Berlin
BEGIN:STANDARD
DTSTART:20251026T020000
TZOFFSETFROM:+0200
TZOFFSETTO:+0100
TZNAME:CET
END:STANDARD
END:VTIMEZONE
END:VCALENDAR