BEGIN:VCALENDAR
VERSION:2.0
PRODID:-//wp-events-plugin.com//7.2.3.1//EN
TZID:Europe/Berlin
X-WR-TIMEZONE:Europe/Berlin
BEGIN:VEVENT
UID:894@evangelisch-ehrenfeld.de
DTSTART;TZID=Europe/Berlin:20250503T150000
DTEND;TZID=Europe/Berlin:20250503T150000
DTSTAMP:20241227T112111Z
URL:https://www.evangelisch-ehrenfeld.de/termine/mitsingkonzert-singen-im-
 mai-2/
SUMMARY:Mitsingkonzert: „Singen im Mai“
DESCRIPTION:Das Kleinkunstduo Monika Kampmann und Ingrid Ittel-Fernau und d
 ie Mitglieder des „Mut-Mach-Chores-Köln“ laden zu einem Frühlingskon
 zert in hochdeutsch und kölscher Mundart ein. Gesang und Gitarre\, Monika
  Kampmann. Ingrid-Ittel-Fernau begleitet die Stücke am Klavier.\n\n&nbsp\
 ;\n\nDer Eintritt zu den Veranstaltungen ist frei\, um eine Spende wird ge
 beten.\n\n&nbsp\;\n\nDas Konzert-Café in der Auferstehungskirche öffnet 
 immer 1 Std. vor Veranstaltungsbeginn. Ankommen und genießen
CATEGORIES:Kulturveranstaltungen,Musik / Konzerte,Veranstaltungstipps
LOCATION:Auferstehungskirche\, Görlinger Zentrum 39\, Köln - Bocklemünd\
 , 50829\, Deutschland
X-APPLE-STRUCTURED-LOCATION;VALUE=URI;X-ADDRESS=Görlinger Zentrum 39\, Kö
 ln - Bocklemünd\, 50829\, Deutschland;X-APPLE-RADIUS=100;X-TITLE=Auferste
 hungskirche:geo:0,0
END:VEVENT
BEGIN:VTIMEZONE
TZID:Europe/Berlin
X-LIC-LOCATION:Europe/Berlin
BEGIN:DAYLIGHT
DTSTART:20250330T030000
TZOFFSETFROM:+0100
TZOFFSETTO:+0200
TZNAME:CEST
END:DAYLIGHT
END:VTIMEZONE
END:VCALENDAR