BEGIN:VCALENDAR
VERSION:2.0
PRODID:-//wp-events-plugin.com//7.2.3.1//EN
TZID:Europe/Berlin
X-WR-TIMEZONE:Europe/Berlin
BEGIN:VEVENT
UID:1918@evangelisch-ehrenfeld.de
DTSTART;TZID=Europe/Berlin:20260320T190000
DTEND;TZID=Europe/Berlin:20260320T230000
DTSTAMP:20251228T175825Z
URL:https://www.evangelisch-ehrenfeld.de/termine/nachtflohmarkt-4/
SUMMARY:Nachtflohmarkt
DESCRIPTION:Klamotten\, Schmuck\, Pflanzen\, Schallplatten\, Wohnaccessoire
 s und was man sonst noch so alles gebrauchen könnte: hier wird man fündi
 g! Eintritt frei!\n\nMit Getränke- und Brezelverkauf.\n\nParallel findet 
 zum ersten mal eine Rollschuh-Disco in der Friedenskirche gegenüber statt
 .\n\nKontakt und Standanfragen: fabian.hartmann@ekir.de
ATTACH;FMTTYPE=image/jpeg:https://www.evangelisch-ehrenfeld.de/wp-content/
 uploads/2025/12/2026_03_20_Nachtflohmarkt.png
CATEGORIES:Erwachsene,Jugendliche,Veranstaltungstipps
LOCATION:Ernst-Flatow-Haus\, Vogelsanger Straße 155\, Köln - Ehrenfeld\, 
 50823\, Deutschland
X-APPLE-STRUCTURED-LOCATION;VALUE=URI;X-ADDRESS=Vogelsanger Straße 155\, K
 öln - Ehrenfeld\, 50823\, Deutschland;X-APPLE-RADIUS=100;X-TITLE=Ernst-Fl
 atow-Haus:geo:0,0
END:VEVENT
BEGIN:VTIMEZONE
TZID:Europe/Berlin
X-LIC-LOCATION:Europe/Berlin
BEGIN:STANDARD
DTSTART:20251026T020000
TZOFFSETFROM:+0200
TZOFFSETTO:+0100
TZNAME:CET
END:STANDARD
END:VTIMEZONE
END:VCALENDAR