BEGIN:VCALENDAR
VERSION:2.0
PRODID:-//wp-events-plugin.com//7.2.3.1//EN
TZID:Europe/Berlin
X-WR-TIMEZONE:Europe/Berlin
BEGIN:VEVENT
UID:1921@evangelisch-ehrenfeld.de
DTSTART;TZID=Europe/Berlin:20260320T190000
DTEND;TZID=Europe/Berlin:20260320T230000
DTSTAMP:20260114T135722Z
URL:https://www.evangelisch-ehrenfeld.de/termine/rollschuh-disco/
SUMMARY:Rollschuh-Disco
DESCRIPTION:Am 20.03.2026 verwandeln wir in Zusammenarbeit mit der TPSK (Te
 lekom-Post Sport Köln 1925 e.V.) aus Köln-Bocklemünd die Friedenskirche
  in eine Rollschuh-Disco! Neben der Laufbahn im Kirchraum erwartet euch di
 e nötige Disco-Beleuchtung\, passende Musik und ein Bar-Bereich.\n\nDer E
 intritt ist frei. Über Spenden zugunsten der anstehenden Kirchturm-Sanier
 ung freuen wir uns sehr.\n\nParallel findet direkt gegenüber der Nacht-Fl
 ohmarkt im Ernst-Flatow-Haus (Vogelsanger Str. 153) statt.\n\nKommt vorbei
 \, wir freuen uns auf euch! Jede:r ist herzlich willkommen!\n\nDas Mitbrin
 gen von eigenen Rollschuhen/Inlinern ist empfohlen! Die Verleihmöglichkei
 t ist sehr begrenzt.\n\nAm nächsten Tag findet die Rollschuh-Disco erneut
  statt\, diesmal mit Schwerpunkt für Kinder und Familien.
ATTACH;FMTTYPE=image/jpeg:https://www.evangelisch-ehrenfeld.de/wp-content/
 uploads/2026/01/Rollschuh-Disco_Grafik-scaled.png
CATEGORIES:Erwachsene,Jugendliche,Veranstaltungstipps
LOCATION:Friedenskirche\, Rothehausstraße 54a \, Köln - Ehrenfeld\, 50832
 \, Deutschland
X-APPLE-STRUCTURED-LOCATION;VALUE=URI;X-ADDRESS=Rothehausstraße 54a \, Kö
 ln - Ehrenfeld\, 50832\, Deutschland;X-APPLE-RADIUS=100;X-TITLE=Friedenski
 rche:geo:0,0
END:VEVENT
BEGIN:VTIMEZONE
TZID:Europe/Berlin
X-LIC-LOCATION:Europe/Berlin
BEGIN:STANDARD
DTSTART:20251026T020000
TZOFFSETFROM:+0200
TZOFFSETTO:+0100
TZNAME:CET
END:STANDARD
END:VTIMEZONE
END:VCALENDAR